BEGIN:VCALENDAR
VERSION:2.0
PRODID:-//Casa Romana - ECPv6.9.1//NONSGML v1.0//EN
CALSCALE:GREGORIAN
METHOD:PUBLISH
X-WR-CALNAME:Casa Romana
X-ORIGINAL-URL:https://casaromana.org
X-WR-CALDESC:Events for Casa Romana
REFRESH-INTERVAL;VALUE=DURATION:PT1H
X-Robots-Tag:noindex
X-PUBLISHED-TTL:PT1H
BEGIN:VTIMEZONE
TZID:UTC
BEGIN:STANDARD
TZOFFSETFROM:+0000
TZOFFSETTO:+0000
TZNAME:UTC
DTSTART:20240101T000000
END:STANDARD
END:VTIMEZONE
BEGIN:VEVENT
DTSTART;TZID=UTC:20241020T130000
DTEND;TZID=UTC:20241020T150000
DTSTAMP:20260424T000351
CREATED:20241018T164209Z
LAST-MODIFIED:20241018T164857Z
UID:3921-1729429200-1729436400@casaromana.org
SUMMARY:Intâlnirea ambasadorului României in SUA
DESCRIPTION:Invitație pentru întâlnirea ambasadorului României de la Washington\, E.S. Andrei Muraru\,\ncu comunitatea de români din zona San Francisco/ Sacramento\nCa parte a turneului efectuat în statele americane\, început de la preluarea mandatului\, ambasadorul României în Statele Unite\, E.S. Andrei Muraru\, va vizita statul California\, al 32-lea stat pe care îl vizitează\, în vederea consolidărilor relațiilor culturale\, sociale\, economice\, academice și nu doar. \nAvând în vedere că unul dintre cele mai importante obiective al acestei vizite îl reprezintă conectarea cu comunitățile de români\, vă invităm la o întâlnire care va avea loc în data de 20 octombrie\, de la ora 13.00\, la Casa Română: Casa Romana Hayward \nAșteptăm cu bucurie să ne cunoaștem! Am fi recunoscători dacă ați putea împărtăși acest mesaj cu cât mai mulți oameni din comunitatea\, având în vedere dorința dlui ambasador și a Ambasadei de a se conecta cu un număr cât mai mare de români din zonă.
URL:https://casaromana.org/eveniment/intalnirea-ambasadorului-romaniei-in-sua/
LOCATION:Casa Romana\, 26050 Kay Ave Hayward\, Hayward\, CA\, 94545\, Statele Unite
END:VEVENT
END:VCALENDAR