BEGIN:VCALENDAR
VERSION:2.0
PRODID:-//Casa Romana - ECPv6.9.1//NONSGML v1.0//EN
CALSCALE:GREGORIAN
METHOD:PUBLISH
X-ORIGINAL-URL:https://casaromana.org
X-WR-CALDESC:Events for Casa Romana
REFRESH-INTERVAL;VALUE=DURATION:PT1H
X-Robots-Tag:noindex
X-PUBLISHED-TTL:PT1H
BEGIN:VTIMEZONE
TZID:UTC
BEGIN:STANDARD
TZOFFSETFROM:+0000
TZOFFSETTO:+0000
TZNAME:UTC
DTSTART:20240101T000000
END:STANDARD
TZID:America/Los_Angeles
BEGIN:DAYLIGHT
TZOFFSETFROM:-0800
TZOFFSETTO:-0700
TZNAME:PDT
DTSTART:20240310T100000
END:DAYLIGHT
BEGIN:STANDARD
TZOFFSETFROM:-0700
TZOFFSETTO:-0800
TZNAME:PST
DTSTART:20241103T090000
END:STANDARD
TZID:America/Los_Angeles
BEGIN:DAYLIGHT
TZOFFSETFROM:-0800
TZOFFSETTO:-0700
TZNAME:PDT
DTSTART:20250309T100000
END:DAYLIGHT
BEGIN:STANDARD
TZOFFSETFROM:-0700
TZOFFSETTO:-0800
TZNAME:PST
DTSTART:20251102T090000
END:STANDARD
BEGIN:DAYLIGHT
TZOFFSETFROM:-0800
TZOFFSETTO:-0700
TZNAME:PDT
DTSTART:20260308T100000
END:DAYLIGHT
BEGIN:STANDARD
TZOFFSETFROM:-0700
TZOFFSETTO:-0800
TZNAME:PST
DTSTART:20261101T090000
END:STANDARD
END:VTIMEZONE
BEGIN:VEVENT
DTSTART;TZID=UTC:20241020T130000
DTEND;TZID=UTC:20241020T150000
DTSTAMP:20260424T145203
CREATED:20241018T164209Z
LAST-MODIFIED:20241018T164857Z
UID:3921-1729429200-1729436400@casaromana.org
SUMMARY:Intâlnirea ambasadorului României in SUA
DESCRIPTION:Invitație pentru întâlnirea ambasadorului României de la Washington\, E.S. Andrei Muraru\,\ncu comunitatea de români din zona San Francisco/ Sacramento\nCa parte a turneului efectuat în statele americane\, început de la preluarea mandatului\, ambasadorul României în Statele Unite\, E.S. Andrei Muraru\, va vizita statul California\, al 32-lea stat pe care îl vizitează\, în vederea consolidărilor relațiilor culturale\, sociale\, economice\, academice și nu doar. \nAvând în vedere că unul dintre cele mai importante obiective al acestei vizite îl reprezintă conectarea cu comunitățile de români\, vă invităm la o întâlnire care va avea loc în data de 20 octombrie\, de la ora 13.00\, la Casa Română: Casa Romana Hayward \nAșteptăm cu bucurie să ne cunoaștem! Am fi recunoscători dacă ați putea împărtăși acest mesaj cu cât mai mulți oameni din comunitatea\, având în vedere dorința dlui ambasador și a Ambasadei de a se conecta cu un număr cât mai mare de români din zonă.
URL:https://casaromana.org/eveniment/intalnirea-ambasadorului-romaniei-in-sua/
LOCATION:Casa Romana\, 26050 Kay Ave Hayward\, Hayward\, CA\, 94545\, Statele Unite
END:VEVENT
BEGIN:VEVENT
DTSTART;TZID=America/Los_Angeles:20241117T130000
DTEND;TZID=America/Los_Angeles:20241117T140000
DTSTAMP:20260424T145203
CREATED:20241116T190830Z
LAST-MODIFIED:20241116T191438Z
UID:4076-1731848400-1731852000@casaromana.org
SUMMARY:Redeschiderea Bibliotecii “Ilie Smultea”
DESCRIPTION:Biblioteca Casei Romane www.casaromana.org/noutati \nCu un fond de carte de peste 4200 de volume va invita \nDuminica 17 noiembrie 2024 1:00 – 2:00 pm \nin Sala de Festivitati sa participati la Redeschiderea Bibliotecii “Ilie Smultea”
URL:https://casaromana.org/eveniment/redeschiderea-bibliotecii-ilie-smultea/
END:VEVENT
BEGIN:VEVENT
DTSTART;TZID=America/Los_Angeles:20250301T180000
DTEND;TZID=America/Los_Angeles:20250301T210000
DTSTAMP:20260424T145203
CREATED:20250222T070610Z
LAST-MODIFIED:20250222T071506Z
UID:4083-1740852000-1740862800@casaromana.org
SUMMARY:Balul Martisorului la Casa Romana
DESCRIPTION:Casa Română vă invită să participați la Balul Martisorului:\n“ Primăvara bate la ușă”! \nSimbata\, 1 martie 2025\, 6:00 pm\, la sediul Casei Romane\,\n26050 Kay Ave\, Hayward\, CA 94545\, United States\nDoamnele si domnisoarele vor fi intampinate cu traditionalul martisor.\nMâncarea delicioasă și băuturile sunt incluse. Intrarea se va face  pe bază de donație. \nPentru detalii va rugam sa il contactati pe Ioan Dumitriu (Colo) la: ioandumitriu@yahoo.com. \nVa asteptam cu drag!
URL:https://casaromana.org/eveniment/balul-martisorului-la-casa-romana/
END:VEVENT
BEGIN:VEVENT
DTSTART;TZID=America/Los_Angeles:20250330T130000
DTEND;TZID=America/Los_Angeles:20250330T140000
DTSTAMP:20260424T145203
CREATED:20250328T064701Z
LAST-MODIFIED:20250330T060655Z
UID:4092-1743339600-1743343200@casaromana.org
SUMMARY:Basarabia Pamant Romanesc
DESCRIPTION:Biserica Ortodoxa Invierea Domnului\, Biblioteca Casei Romane\n25050 Kay Ave\, Hayward\, CA 94545\nsi American Romanian Academy of Art and Sciences \nVa invita\nDuminica 30 martie 2025\n1:00 – 2:00 pm\nin Sala de Festivitati a Casei\nRomane\nsa participati la \nUN RECITAL DE Muzica si Poezie\nBasarabia Pamant Romanesc\nCu un program care va include un film de debut\nin regia lui Stefan Marcu si\nun Medalion Grigore Vieru\nOrganizatori\nDinu si Oana Leonte \nProgramul de arta\, muzica si poezie propus este deschis\npentru contributiile dvs. Directe\, poezie\, cintece\, memorii \nDonatii sunt acceptate in beneficiul oricarei organizatii participante\nBiblioteca – Casa Romana va invita sa-i utilizati tezaurul de carte \n  \n20250330 Ziua Alipirii Basarabiei la Romania Basarabiei
URL:https://casaromana.org/eveniment/basarabia-pamant-romanesc/
END:VEVENT
BEGIN:VEVENT
DTSTART;TZID=UTC:20260125T160000
DTEND;TZID=UTC:20260125T233000
DTSTAMP:20260424T145203
CREATED:20260113T064119Z
LAST-MODIFIED:20260113T064119Z
UID:4112-1769356800-1769383800@casaromana.org
SUMMARY:Concert Muzica Romaneasca
DESCRIPTION:https://casaromana.org/wp-content/uploads/2026/01/VIDEO-2026-01-10-19-30-06.mp4
URL:https://casaromana.org/eveniment/concert-muzica-romaneasca/
END:VEVENT
BEGIN:VEVENT
DTSTART;TZID=America/Los_Angeles:20260329T130000
DTEND;TZID=America/Los_Angeles:20260329T140000
DTSTAMP:20260424T145203
CREATED:20260328T171631Z
LAST-MODIFIED:20260328T172214Z
UID:4116-1774789200-1774792800@casaromana.org
SUMMARY:Basarabia Pamant Romanesc
DESCRIPTION:Biserica Ortodoxa Invierea Domnului\, Biblioteca Casei Romane\n25050 Kay Ave\, Hayward\, CA 94545\nsi American Romanian Academy of Art and Sciences \nVa invita\nDuminica 29 martie 2025\n1:00 – 2:00 pm\nin Sala de Festivitati a Casei\nRomane\nsa participati la \nUN RECITAL DE Muzica si Poezie\nUnirea Basarabiei cu Patria Mama\nMedalion Nicolae Dabija\nOrganizatori\nNicolae Petrescu Redi\nDinu si Oana Leonte\n \nProgramul de arta\, muzica si poezie propus este deschis\npentru contributiile dvs. Directe\, poezie\, cintece\, memorii \nDonatii sunt acceptate in beneficiul oricarei organizatii participante\nBiblioteca – Casa Romana va invita sa-i utilizati tezaurul de carte \nZoom Invite Link: \nhttps://us02web.zoom.us/j/82372675887?pwd=nQ6YL7mAmqVAa0glvFWI22cvtRXa0g.1  \n20260329 Ziua Alipirii Basarabiei la Romania Basarabiei
URL:https://casaromana.org/eveniment/ziua-alipirii-basarabiei-la-romania/
END:VEVENT
END:VCALENDAR