BEGIN:VCALENDAR
VERSION:2.0
PRODID:-//Casa Romana - ECPv6.9.1//NONSGML v1.0//EN
CALSCALE:GREGORIAN
METHOD:PUBLISH
X-WR-CALNAME:Casa Romana
X-ORIGINAL-URL:https://casaromana.org
X-WR-CALDESC:Events for Casa Romana
REFRESH-INTERVAL;VALUE=DURATION:PT1H
X-Robots-Tag:noindex
X-PUBLISHED-TTL:PT1H
BEGIN:VTIMEZONE
TZID:UTC
BEGIN:STANDARD
TZOFFSETFROM:+0000
TZOFFSETTO:+0000
TZNAME:UTC
DTSTART:20210101T000000
END:STANDARD
END:VTIMEZONE
BEGIN:VEVENT
DTSTART;TZID=UTC:20240323T180000
DTEND;TZID=UTC:20240323T200000
DTSTAMP:20260424T081834
CREATED:20240302T195319Z
LAST-MODIFIED:20240319T185152Z
UID:3837-1711216800-1711224000@casaromana.org
SUMMARY:Omul Fără Linia Vieții--Lifelines Man
DESCRIPTION:Casa Romana va invita la prezentarea filmului OMUL FARA LINIA VIETII / LIFELINES MAN\, producator\, investor si scenarist Ionel Sporea\, regizor Adriana Vasilcov.\nFilmul a fost realizat in anul 2023\, are o durata de 93 de minute si este subtitrat in limba engleza. \nEvenimentul va avea loc in 23 Martie ora 6:00 pm la sala de festivitati a Casei Romane: Casa Romana Hayward \nOMUL FARA LINIA VIETII / LIFELINES MAN este o ecranizare după romanul omonim\, autobiografic\, scris de Ionel Sporea. \nDin distribuție fac parte unii dintre cei mai buni actori din România și Republica Moldova: Maia Morgenstern\, Carmen Tanase\, Eugenia Șerban\, Armand Calotă\, Rareș Andrici\, Dana Ciobanu\, Alina Rusu\, Petru Oistric. \nFilmul rulează (non/stop) de peste 2 luni în Republica Moldova adunind pina acum aproximativ 20.000 de spectatori\, fiind considerat unul dintre “cele mai bune filme românești” din ultimii ani. \nIn noiembrie 2023 filmul a câștigat 3 premii importante la “HOLLYWOOD FLORIDA FILM FESTIVAL: cel mai bun film de lung metraj⁠\, cel mai bun regizor (Adriana Vasilcov)⁠ si cel mai bun actor intr-un rol masculin (Rareș Andrici). \nTrailer-ul filmului poate fi vizualizat pe YouTube: Trailer Omul Fara Linia Vietii \nCostul unui bilet este de 25$ iar filmul este clasificat PG-13. \nBiletele pot fi cumparate la intrare in ziua evenimentului\, sau prin PayPal catre Casa Romana si Capela Corporation: PayPal Omul Fara Linia Vietii in limita locurilor disponibile. \nLocurile se ocupa in ordinea sosirii. \nPentru mai multe detalii va rugam sa il contactati pe Colo Dumitriu la adresa de email: colodumitriu@pacbell.net \nDupa sfirsitul filmului va invitam la o Seara Romaneasca cu muzica si dans\, DJ Colo. Mincarea si bautura se cumpara\, nu sint incluse in pretul biletului. \nVa asteptam cu drag la acest eveniment.
URL:https://casaromana.org/eveniment/omul-fata-linia-vietii-lifelines-man/
END:VEVENT
BEGIN:VEVENT
DTSTART;TZID=UTC:20231015T123000
DTEND;TZID=UTC:20231015T170000
DTSTAMP:20260424T081834
CREATED:20231013T142617Z
LAST-MODIFIED:20231013T143057Z
UID:3829-1697373000-1697389200@casaromana.org
SUMMARY:Picnic de Toamna\, 2023
DESCRIPTION:CASA ROMANA VA INVITA SA PARTICIPATI LA PICNICUL DE TOAMNA AL CASEI ROMANE\ncu must\, mici\, pastrama si prajituri de casa \nDUMINICA 15 Octombrie\, 2023\, INCEPIND CU ORA 12:30 P.M. \nAdresa: Casa Romana\, 26050 Kay Ave\, Hayward\, Ca 94545 \nMeniu $25/adulti\, $15/copii 7-14 ani\, gratuit pentru copii mai mici de 7 ani \nMeniul cuprinde mici proaspeti\, pastrama de oaie\, fasole batuta\, salata de cartofi\, salata de muraturi\, turta dulce\, paine si must. \nSe pot face comenzi pentru acasa\, cu rezervari Laura Toma\, lauratoma@gmail.com.\nMust alb sau rosu $10/sticla de 1\,5l. Va rugam sa aduceti recipiente.\nMici $30/10 bucati.\nPastrama $30/10 bucati. \nPersoane de contact: Emil : (510) 258-7645 si Laura Toma lauratoma@gmail.com. \nBake sale pentru Asociația Magic din Romania\nin cadrul picnicului de la Casa Romana\, Hayward\, CA \nUn grup de copii si adolescenti din Silicon Valley\, CA (vorbitori sau nu de limba romana) va organiza un BAKE SALE cu prajituri de casa preparate de ei (cu sau fara ajutorul parintilor).\nToate incasarile din vinzarea dulciurilor vor fi donate Asociatiei Magic din Romania\, organizație non-guvernamentală care ajută copiii cu afecțiuni grave și familiile acestora.\nDaca cunoasteti tineri amatori care doresc sa participe la Bake Sale va rugam sa trimiteti un mesaj Laurei Toma la lauratoma@gmail.com.\nSe pot comanda si prajituri pentru acasa. \nSe pot face donatii si prin cec\, pe numele:\nRomanian United Fund\, for Asociatia Magic\nRomanian United Fund (https://www.romanianunitedfund.org/) este o asociatie non-profit cu sediul in Chicago care este partener cu Asociatia Magic Romania si se ocupa de colectarea de donatii de pe teritoriul SUA. \nhttps://asociatiamagic.ro/
URL:https://casaromana.org/eveniment/picnic-de-toamna-2023/
LOCATION:Casa Romana\, 26050 Kay Ave Hayward\, Hayward\, CA\, 94545\, Statele Unite
END:VEVENT
BEGIN:VEVENT
DTSTART;TZID=UTC:20210501T233000
DTEND;TZID=UTC:20210502T233000
DTSTAMP:20260424T081834
CREATED:20210209T143900Z
LAST-MODIFIED:20210314T220043Z
UID:2485-1619911800-1619998200@casaromana.org
SUMMARY:Învierea Domnului 2021
DESCRIPTION:
URL:https://casaromana.org/eveniment/invierea-domnului-2021/
LOCATION:Casa Romana\, 26050 Kay Ave Hayward\, Hayward\, CA\, 94545\, Statele Unite
CATEGORIES:CasaRomana
ATTACH;FMTTYPE=image/jpeg:https://casaromana.org/wp-content/uploads/2021/02/invierea-domnului.jpg
END:VEVENT
END:VCALENDAR